BEGIN:VCALENDAR
VERSION:2.0
PRODID:icalendar-ruby
CALSCALE:GREGORIAN
METHOD:PUBLISH
BEGIN:VEVENT
DTSTAMP:20260419T140830Z
UID:110-1351348@vanfumc.org
DTSTART:20260517T180000Z
DTEND:20260517T203000Z
CLASS:PUBLIC
CREATED:20260324T163736
DESCRIPTION:
LAST-MODIFIED:20260324T163736
LOCATION:
SUMMARY:Global Health Video & Discussion Event
URL;VALUE=URI:https://www.vanfumc.org/events/global-health-video-discussion
 -event/2026-05-17
ATTACH;FILENAME=Global-Health---For-Newsletter-Mid-April.png;FMTTYPE=image/
 png:https://dq5pwpg1q8ru0.cloudfront.net/2026/03/24/23/36/07/9d926922-8f77
 -46ef-816c-0ae2e084c086/Global-Health---For-Newsletter-Mid-April.png
END:VEVENT
END:VCALENDAR
