BEGIN:VCALENDAR
VERSION:2.0
PRODID:icalendar-ruby
CALSCALE:GREGORIAN
METHOD:PUBLISH
BEGIN:VEVENT
DTSTAMP:20260421T045104Z
UID:50-1433819@vanfumc.org
DTSTART:20261013T013000Z
DTEND:20261013T030000Z
CLASS:PUBLIC
CREATED:20260420T181014
DESCRIPTION:Beginning Monday\, March 23rd we will dive in to Mister God\, T
 his Is Anna. \n\nAn excerpt from the Amazon synopsis: \nFrom the moment 
 Anna and Fynn locked eyes\, their times together were filled with delight 
 and discovery. In her completely frank and honest way\, Anna had an astoni
 shing ability to ask--and answer--life's largest questions\, and to feel t
 he purpose of being. You see\, Anna had a very special friendship with Mr.
  God.\n"Extraordinarily moving!"\n\n\nAll are welcome to attend
LAST-MODIFIED:20260420T181014
LOCATION:Conrad Room
SUMMARY:Mondays with Tom
URL;VALUE=URI:https://www.vanfumc.org/events/mondays-with-tom/2026-10-12
ATTACH;FILENAME=Faith-Groups-Graphics-%281%29.png;FMTTYPE=image/png:https:/
 /dq5pwpg1q8ru0.cloudfront.net/2025/07/22/00/55/30/70b336b3-b5cc-4cbb-9495-
 919f6ec47ece/Faith-Groups-Graphics-%25281%2529.png
ATTACH;FILENAME=Untitled-design.png;FMTTYPE=image/png:https://dq5pwpg1q8ru0
 .cloudfront.net/2026/03/19/18/45/44/1c57745f-0066-420d-ae5d-b42bf545ca9b/U
 ntitled-design.png
END:VEVENT
END:VCALENDAR
