BEGIN:VCALENDAR
VERSION:2.0
PRODID:icalendar-ruby
CALSCALE:GREGORIAN
METHOD:PUBLISH
BEGIN:VEVENT
DTSTAMP:20260419T123448Z
UID:111-1413350@vanfumc.org
DTSTART:20260426T170000Z
DTEND:20260427T060000Z
CLASS:PUBLIC
CREATED:20260414T125551
DESCRIPTION:The Many.\nDrawing on indie pop and gospel influences\, The Man
 y makes music to help give voice to\nfaith and doubt\, questions and fears
 \, laments and longings\, music that speaks to a non-\nviolent God\, a Jes
 us who is with us and for us\, and to a Spirit that can't be easily define
 d or\ncontrolled. It's music for a movement of resistance to hatred and di
 vision\, for\nreconciliation and restoration\, and music that always remin
 ds us "we are on this earth to\nlove."\nThe Many is an indie\, eclectic mu
 sic collective from Chicago singing music of faith and doubt\,\nhope and l
 ament. Gospel\, R&amp\;B\, Pop\, Singer/Songwriter. It's all in the mix. T
 he members of The\nMany come together around their shared love of music an
 d commitment to honest expressions\nof faith\, peace-making\, economic\, r
 acial and climate justice and LGBTQ+ inclusion.  The Many\nsing original 
 songs made for reflection\, for protest\, for healing and worship. They ar
 e songs\nmade for singing with each other\, in churches\, in living rooms\
 , in basements and\nbars…anywhere\, everywhere… in spirit and in truth
 . With lyrics born from Scriptures\, from\nheadlines\, and from their own 
 experience\, this is not head in the clouds “worship music” - but\nfee
 t on the ground\, heart in hands\, scars revealed\, wild and holy music of
  resistance and\nreconciliation and restoration. Together\, this unique gr
 oup of musicians\, songwriters\, poets\,\nactivists\, uneasy prophets and 
 unsaintly saints\, remind us over and over again that we aren’t\nalone\,
  that God so loves every one of us\, and that - we all belong here.
LAST-MODIFIED:20260414T125551
LOCATION:Sanctuary
SUMMARY:"The Many" joins VanFUMC for worship!
URL;VALUE=URI:https://www.vanfumc.org/events/the-many-joins-vanfumc-for-wor
 ship/2026-04-26
ATTACH;FILENAME=Screenshot-2026-04-14-122717.png;FMTTYPE=image/png:https://
 dq5pwpg1q8ru0.cloudfront.net/2026/04/14/19/36/15/baabc55f-59cb-4d58-8b34-1
 aafb12d5ee1/Screenshot-2026-04-14-122717.png
END:VEVENT
END:VCALENDAR
