BEGIN:VCALENDAR
VERSION:2.0
PRODID:icalendar-ruby
CALSCALE:GREGORIAN
METHOD:PUBLISH
BEGIN:VEVENT
DTSTAMP:20260419T173812Z
UID:112-1416479@vanfumc.org
DTSTART:20260621T183000Z
DTEND:20260621T193000Z
CLASS:PUBLIC
CREATED:20260415T100933
DESCRIPTION:We’re excited to kick off the XYZ Book Club—and to make it 
 accessible for more people\, we’re trying something new! For the first f
 our months\, we’ll offer two different meeting opportunities to fit a va
 riety of schedules and preferences.\nIn-Person Gathering:Join us on the th
 ird Sunday of each month after worship for conversation\, connection\, and
  great reads.\n\nMay 3 – Meet at Dulins on Main Street (we’ll test ou
 t this spot and decide future locations together!)\nJune 21\nJuly 19\nAugu
 st 16\n\nWhether you’re a longtime reader or just looking to connect\, t
 his is a relaxed and welcoming space for all. Come be part of the conversa
 tion—we’d love to have you!\nXYZ Book Club — Join Us on Zoom! \nLook
 ing for a flexible way to join the conversation? We’ve got you covered! 
 In addition to our in-person gatherings\, we’re offering a monthly Zoom 
 option so you can participate from wherever you are.\nVirtual Gathering:Jo
 in us on Zoom at 6:00 PM on the Monday following our Sunday meeting.\n\nMa
 y 18\nJune 22\nJuly 20\nAugust 17\n\nWhether you’re at home\, on the go\
 , or just prefer a virtual space\, this is a great way to stay connected a
 nd engaged with the group. Same great discussions—just a different setti
 ng!\nEach session will last about one hour as we gather to discuss the rea
 ding and share insights\, reflections\, and questions together.\nWe’ll h
 ave 5 copies of the book available to share—first come\, first served! Y
 ou’re also welcome to purchase your own copy if you prefer. (Amazon link
  available here.)\nWe’re really looking forward to this time of connecti
 on\, conversation\, and growth—it’s going to be a meaningful journey t
 ogether!
LAST-MODIFIED:20260415T100933
LOCATION:
SUMMARY:XYZ Book Club
URL;VALUE=URI:https://www.vanfumc.org/events/xyz-book-club/2026-06-21
ATTACH;FILENAME=Man-reading-a-book---2048x1365.jpg;FMTTYPE=image/jpeg:https
 ://dq5pwpg1q8ru0.cloudfront.net/2026/04/15/17/08/45/0a903416-d2b9-43e5-acc
 4-d4f2da8537ae/Man-reading-a-book---2048x1365.jpg
END:VEVENT
END:VCALENDAR
