BEGIN:VCALENDAR
VERSION:2.0
PRODID:icalendar-ruby
CALSCALE:GREGORIAN
METHOD:PUBLISH
BEGIN:VEVENT
DTSTAMP:20260421T060418Z
UID:49-1433760@vanfumc.org
DTSTART:20261005T170000Z
DTEND:20261005T180000Z
CLASS:PUBLIC
CREATED:20260420T181014
DESCRIPTION:Yarn &amp\; More will meet on Mondays at 10am starting Septembe
 r.\nAll crafters are welcome as we work on individual projects or items th
 at benefit our local partners\, such as wash clothes and prayer shawls. 
LAST-MODIFIED:20260420T181014
LOCATION:Conrad Room
SUMMARY:Yarn & More
URL;VALUE=URI:https://www.vanfumc.org/events/yarn-more/2026-10-05
ATTACH;FILENAME=Yarn-%26-More-Grahphics.png;FMTTYPE=image/png:https://dq5pw
 pg1q8ru0.cloudfront.net/2025/07/22/00/05/21/45750ae6-6c6f-46a0-9e25-de32b8
 ba7113/Yarn-%2526-More-Grahphics.png
END:VEVENT
END:VCALENDAR
